BEGIN:VCALENDAR
VERSION:2.0
PRODID:spatie/icalendar-generator
DESCRIPTION:Events from Lotus Wings
X-WR-CALDESC:Events from Lotus Wings
REFRESH-INTERVAL;VALUE=DURATION:PT1440M
X-PUBLISHED-TTL:PT1440M
BEGIN:VTIMEZONE
TZID:America/Toronto
BEGIN:DAYLIGHT
DTSTART:20250309T020000Z
TZOFFSETFROM:-0500
TZOFFSETTO:-0400
END:DAYLIGHT
BEGIN:STANDARD
DTSTART:20251102T020000Z
TZOFFSETFROM:-0400
TZOFFSETTO:-0500
END:STANDARD
BEGIN:DAYLIGHT
DTSTART:20260308T020000Z
TZOFFSETFROM:-0500
TZOFFSETTO:-0400
END:DAYLIGHT
END:VTIMEZONE
BEGIN:VTIMEZONE
TZID:UTC
BEGIN:STANDARD
DTSTART:20250725T121628Z
TZOFFSETFROM:+0000
TZOFFSETTO:+0000
END:STANDARD
END:VTIMEZONE
BEGIN:VEVENT
UID:647-552
DTSTAMP:20260421T121628Z
SUMMARY:Empowered Empath Workshop with Moe Rosteius
LOCATION:
ORGANIZER;CN=Denise Carpenter:MAILTO:denise@lotuswings.ca
DTSTART;TZID=America/Toronto:20250913T100000
DTEND;TZID=America/Toronto:20250913T120000
X-ALT-DESC;FMTTYPE=TEXT/HTML:Empowered Empath Workshop – Begins Sept. 13t
 h Join Moe Rosteius on Saturday\, Sept. 13th from 10am–12pm at Lotus Win
 gs for the first session in a new monthly workshop series designed to supp
 ort Empaths and Highly Sensitive People. This opening session\, “Are You
  an Empath &amp;amp\; What Does That Mean?”\, will explore the difference be
 tween Empaths&amp;hellip\;
CATEGORIES:General
URL;VALUE=URI:https://lotuswings.ca/mc-events/empowered-empath-workshop-wit
 h-moe-rosteius/
METHOD:PUBLISH
END:VEVENT
END:VCALENDAR