BEGIN:VCALENDAR
VERSION:2.0
PRODID:spatie/icalendar-generator
DESCRIPTION:Events from Lotus Wings
X-WR-CALDESC:Events from Lotus Wings
REFRESH-INTERVAL;VALUE=DURATION:PT1440M
X-PUBLISHED-TTL:PT1440M
BEGIN:VTIMEZONE
TZID:America/Toronto
BEGIN:STANDARD
DTSTART:20251102T020000Z
TZOFFSETFROM:-0400
TZOFFSETTO:-0500
END:STANDARD
BEGIN:DAYLIGHT
DTSTART:20260308T020000Z
TZOFFSETFROM:-0500
TZOFFSETTO:-0400
END:DAYLIGHT
BEGIN:STANDARD
DTSTART:20261101T020000Z
TZOFFSETFROM:-0400
TZOFFSETTO:-0500
END:STANDARD
END:VTIMEZONE
BEGIN:VTIMEZONE
TZID:UTC
BEGIN:STANDARD
DTSTART:20250725T125338Z
TZOFFSETFROM:+0000
TZOFFSETTO:+0000
END:STANDARD
END:VTIMEZONE
BEGIN:VEVENT
UID:696-595
DTSTAMP:20260421T125338Z
SUMMARY:Level I Usui Reiki Class Review with Denise Carpenter
LOCATION:
ORGANIZER;CN=Denise Carpenter:MAILTO:denise@lotuswings.ca
DTSTART;TZID=America/Toronto:20260503T100000
DTEND;TZID=America/Toronto:20260503T120000
X-ALT-DESC;FMTTYPE=TEXT/HTML:Please join me for a review of Level I theory\
 , a Level I attunement and review of the Reiki Principals on May 3rd from 
 10am to noon.   For more information contact Denise at reikiassociates@g
 mail.com  or text 613-913-2803.
CATEGORIES:General
URL;VALUE=URI:https://lotuswings.ca/mc-events/level-i-usui-reiki-class-revi
 ew-with-denise-carpenter-3/
METHOD:PUBLISH
END:VEVENT
END:VCALENDAR