BEGIN:VCALENDAR
VERSION:2.0
PRODID:spatie/icalendar-generator
DESCRIPTION:Events from Lotus Wings
X-WR-CALDESC:Events from Lotus Wings
REFRESH-INTERVAL;VALUE=DURATION:PT1440M
X-PUBLISHED-TTL:PT1440M
BEGIN:VTIMEZONE
TZID:America/Toronto
BEGIN:STANDARD
DTSTART:20251102T020000Z
TZOFFSETFROM:-0400
TZOFFSETTO:-0500
END:STANDARD
BEGIN:DAYLIGHT
DTSTART:20260308T020000Z
TZOFFSETFROM:-0500
TZOFFSETTO:-0400
END:DAYLIGHT
END:VTIMEZONE
BEGIN:VTIMEZONE
TZID:UTC
BEGIN:STANDARD
DTSTART:20250724T213153Z
TZOFFSETFROM:+0000
TZOFFSETTO:+0000
END:STANDARD
END:VTIMEZONE
BEGIN:VEVENT
UID:667-572
DTSTAMP:20260420T213153Z
SUMMARY:Level II Reiki Class Review with Denise Carpenter
LOCATION:
ORGANIZER;CN=Denise Carpenter:MAILTO:denise@lotuswings.ca
DTSTART;TZID=America/Toronto:20260118T100000
DTEND;TZID=America/Toronto:20260118T120000
X-ALT-DESC;FMTTYPE=TEXT/HTML:If you are a student of Denise Carpenter....Pl
 ease join her for a review of Level II theory\, a Level II attunement and 
 review of the symbols on January 18th from 10am to noon.   For more info
 rmation contact Denise at reikiassociates@gmail.com  or text 613-913-280
 3.
CATEGORIES:General
URL;VALUE=URI:https://lotuswings.ca/mc-events/level-ii-reiki-class-review-w
 ith-denise-carpenter-3/
METHOD:PUBLISH
END:VEVENT
END:VCALENDAR