BEGIN:VCALENDAR
VERSION:2.0
PRODID:spatie/icalendar-generator
DESCRIPTION:Events from Lotus Wings
X-WR-CALDESC:Events from Lotus Wings
REFRESH-INTERVAL;VALUE=DURATION:PT1440M
X-PUBLISHED-TTL:PT1440M
BEGIN:VTIMEZONE
TZID:America/Toronto
BEGIN:DAYLIGHT
DTSTART:20210314T020000Z
TZOFFSETFROM:-0500
TZOFFSETTO:-0400
END:DAYLIGHT
BEGIN:STANDARD
DTSTART:20211107T020000Z
TZOFFSETFROM:-0400
TZOFFSETTO:-0500
END:STANDARD
BEGIN:DAYLIGHT
DTSTART:20220313T020000Z
TZOFFSETFROM:-0500
TZOFFSETTO:-0400
END:DAYLIGHT
END:VTIMEZONE
BEGIN:VTIMEZONE
TZID:UTC
BEGIN:STANDARD
DTSTART:20250724T095352Z
TZOFFSETFROM:+0000
TZOFFSETTO:+0000
END:STANDARD
END:VTIMEZONE
BEGIN:VEVENT
UID:275-231
DTSTAMP:20260420T095352Z
SUMMARY:Level II Reiki Training with Suzanne Croteau of Pinegrove Reiki
LOCATION:The Lotus Wings Building 30 North Street  Perth ON K7H 2S7
ORGANIZER;CN=Denise Carpenter:MAILTO:denise@lotuswings.ca
DTSTART;TZID=America/Toronto:20211107T090000
DTEND;TZID=America/Toronto:20211107T170000
X-ALT-DESC;FMTTYPE=TEXT/HTML:
CATEGORIES:General
URL;VALUE=URI:https://lotuswings.ca/mc-events/level-ii-reiki-training-with-
 suzanne-croteau-of-pinegrove-reiki/
METHOD:PUBLISH
END:VEVENT
END:VCALENDAR