BEGIN:VCALENDAR
VERSION:2.0
PRODID:spatie/icalendar-generator
DESCRIPTION:Events from Lotus Wings
X-WR-CALDESC:Events from Lotus Wings
REFRESH-INTERVAL;VALUE=DURATION:PT1440M
X-PUBLISHED-TTL:PT1440M
BEGIN:VTIMEZONE
TZID:America/Toronto
BEGIN:STANDARD
DTSTART:20241103T020000Z
TZOFFSETFROM:-0400
TZOFFSETTO:-0500
END:STANDARD
BEGIN:DAYLIGHT
DTSTART:20250309T020000Z
TZOFFSETFROM:-0500
TZOFFSETTO:-0400
END:DAYLIGHT
BEGIN:STANDARD
DTSTART:20251102T020000Z
TZOFFSETFROM:-0400
TZOFFSETTO:-0500
END:STANDARD
END:VTIMEZONE
BEGIN:VTIMEZONE
TZID:UTC
BEGIN:STANDARD
DTSTART:20250725T092641Z
TZOFFSETFROM:+0000
TZOFFSETTO:+0000
END:STANDARD
END:VTIMEZONE
BEGIN:VEVENT
UID:635-543
DTSTAMP:20260421T092641Z
SUMMARY:Manifestation Workshop with Trevor Couturier
LOCATION:
ORGANIZER;CN=Denise Carpenter:MAILTO:denise@lotuswings.ca
DTSTART;TZID=America/Toronto:20250727T100000
DTEND;TZID=America/Toronto:20250727T150000
X-ALT-DESC;FMTTYPE=TEXT/HTML:Manifest Your Dream Life – Transformational 
 Workshop with Trevor Ready to break through blocks and align with your des
 ires? Join Trevor from Infinity Spiritual Healing for a powerful 5-hour Ma
 nifestation Workshop designed to help you shift your energy and bring your
  goals to life. Through guided exercises\, vision boarding\, and energy al
 ignment practices\, you will&amp;hellip\;
CATEGORIES:General
URL;VALUE=URI:https://lotuswings.ca/mc-events/manifestation-workshop-with-t
 revor-couturier/
METHOD:PUBLISH
END:VEVENT
END:VCALENDAR