BEGIN:VCALENDAR
VERSION:2.0
PRODID:spatie/icalendar-generator
DESCRIPTION:Events from Lotus Wings
X-WR-CALDESC:Events from Lotus Wings
REFRESH-INTERVAL;VALUE=DURATION:PT1440M
X-PUBLISHED-TTL:PT1440M
BEGIN:VTIMEZONE
TZID:America/Toronto
BEGIN:DAYLIGHT
DTSTART:20250309T020000Z
TZOFFSETFROM:-0500
TZOFFSETTO:-0400
END:DAYLIGHT
BEGIN:STANDARD
DTSTART:20251102T020000Z
TZOFFSETFROM:-0400
TZOFFSETTO:-0500
END:STANDARD
BEGIN:DAYLIGHT
DTSTART:20260308T020000Z
TZOFFSETFROM:-0500
TZOFFSETTO:-0400
END:DAYLIGHT
END:VTIMEZONE
BEGIN:VTIMEZONE
TZID:UTC
BEGIN:STANDARD
DTSTART:20250725T081700Z
TZOFFSETFROM:+0000
TZOFFSETTO:+0000
END:STANDARD
END:VTIMEZONE
BEGIN:VEVENT
UID:646-551
DTSTAMP:20260421T081700Z
SUMMARY:Master Practitioner Usui Reiki Class Review with Denise Carpenter
LOCATION:
ORGANIZER;CN=Denise Carpenter:MAILTO:denise@lotuswings.ca
DTSTART;TZID=America/Toronto:20250921T100000
DTEND;TZID=America/Toronto:20250921T120000
X-ALT-DESC;FMTTYPE=TEXT/HTML:Please join me for a review of The Master Prac
 titioner Level theory\, attunement and review of the Crystal Grid\, Aura C
 learing and Meditation on September 21st from 10am to noon.   For more i
 nformation contact Denise at reikiassociates@gmail.com  or text 613-913-
 2803.
CATEGORIES:General
URL;VALUE=URI:https://lotuswings.ca/mc-events/master-practitioner-usui-reik
 i-class-review-with-denise-carpenter-2/
METHOD:PUBLISH
END:VEVENT
END:VCALENDAR