BEGIN:VCALENDAR
VERSION:2.0
PRODID:spatie/icalendar-generator
DESCRIPTION:Events from Lotus Wings
X-WR-CALDESC:Events from Lotus Wings
REFRESH-INTERVAL;VALUE=DURATION:PT1440M
X-PUBLISHED-TTL:PT1440M
BEGIN:VTIMEZONE
TZID:America/Toronto
BEGIN:DAYLIGHT
DTSTART:20200308T020000Z
TZOFFSETFROM:-0500
TZOFFSETTO:-0400
END:DAYLIGHT
BEGIN:STANDARD
DTSTART:20201101T020000Z
TZOFFSETFROM:-0400
TZOFFSETTO:-0500
END:STANDARD
BEGIN:DAYLIGHT
DTSTART:20210314T020000Z
TZOFFSETFROM:-0500
TZOFFSETTO:-0400
END:DAYLIGHT
END:VTIMEZONE
BEGIN:VTIMEZONE
TZID:UTC
BEGIN:STANDARD
DTSTART:20250730T005048Z
TZOFFSETFROM:+0000
TZOFFSETTO:+0000
END:STANDARD
END:VTIMEZONE
BEGIN:VEVENT
UID:186-152
DTSTAMP:20260426T005048Z
SUMMARY:PERTH - Reiki Share with Denise Carpenter
LOCATION:The Lotus Wings Building 30 North Street  Perth ON K7H 2S7
ORGANIZER;CN=Denise Carpenter:MAILTO:denise@lotuswings.ca
DTSTART;TZID=America/Toronto:20200915T190000
DTEND;TZID=America/Toronto:20200915T210000
X-ALT-DESC;FMTTYPE=TEXT/HTML:Join Denise for a Reiki Share. All Covid 19 re
 strictions will be in place. Only 5 attendees are allowed at this time so 
 please connect with Denise at 613-913-2803 to reserve a spot. This Reiki S
 hare will follow the format of the successful July share.... social distan
 cing with masks. The share will be a group&amp;hellip\;
CATEGORIES:General
URL;VALUE=URI:https://lotuswings.ca/mc-events/perth-reiki-share-with-denise
 -carpenter-12/
METHOD:PUBLISH
END:VEVENT
END:VCALENDAR