BEGIN:VCALENDAR
VERSION:2.0
PRODID:spatie/icalendar-generator
DESCRIPTION:Events from Lotus Wings
X-WR-CALDESC:Events from Lotus Wings
REFRESH-INTERVAL;VALUE=DURATION:PT1440M
X-PUBLISHED-TTL:PT1440M
BEGIN:VTIMEZONE
TZID:America/Toronto
BEGIN:STANDARD
DTSTART:20241103T020000Z
TZOFFSETFROM:-0400
TZOFFSETTO:-0500
END:STANDARD
BEGIN:DAYLIGHT
DTSTART:20250309T020000Z
TZOFFSETFROM:-0500
TZOFFSETTO:-0400
END:DAYLIGHT
BEGIN:STANDARD
DTSTART:20251102T020000Z
TZOFFSETFROM:-0400
TZOFFSETTO:-0500
END:STANDARD
END:VTIMEZONE
BEGIN:VTIMEZONE
TZID:UTC
BEGIN:STANDARD
DTSTART:20250723T211650Z
TZOFFSETFROM:+0000
TZOFFSETTO:+0000
END:STANDARD
END:VTIMEZONE
BEGIN:VEVENT
UID:628-537
DTSTAMP:20260419T211650Z
SUMMARY:Shoden Class for Komyo ReikiDo (First Level) with Denise Carpenter
LOCATION:
ORGANIZER;CN=Denise Carpenter:MAILTO:denise@lotuswings.ca
DTSTART;TZID=America/Toronto:20250628T100000
DTEND;TZID=America/Toronto:20250628T170000
X-ALT-DESC;FMTTYPE=TEXT/HTML:Discover the Art of Healing &amp;amp\; Inner Peace
  Join us for a transformative one-day Komyo ReikiDo Shoden (Beginner Level
 ) course on Friday\, June 28th\, and begin your journey into the heart of 
 traditional Japanese Reiki. This foundational level introduces the princip
 les and practice of Reiki as a spiritual path and holistic healing art\, a
 s taught&amp;hellip\;
CATEGORIES:General
URL;VALUE=URI:https://lotuswings.ca/mc-events/shoden-class-for-komyo-reikid
 o-first-level-with-denise-carpenter/
METHOD:PUBLISH
END:VEVENT
END:VCALENDAR