BEGIN:VCALENDAR
VERSION:2.0
PRODID:spatie/icalendar-generator
DESCRIPTION:Events from Lotus Wings
X-WR-CALDESC:Events from Lotus Wings
REFRESH-INTERVAL;VALUE=DURATION:PT1440M
X-PUBLISHED-TTL:PT1440M
BEGIN:VTIMEZONE
TZID:America/Toronto
BEGIN:STANDARD
DTSTART:20251102T020000Z
TZOFFSETFROM:-0400
TZOFFSETTO:-0500
END:STANDARD
BEGIN:DAYLIGHT
DTSTART:20260308T020000Z
TZOFFSETFROM:-0500
TZOFFSETTO:-0400
END:DAYLIGHT
BEGIN:STANDARD
DTSTART:20261101T020000Z
TZOFFSETFROM:-0400
TZOFFSETTO:-0500
END:STANDARD
END:VTIMEZONE
BEGIN:VTIMEZONE
TZID:UTC
BEGIN:STANDARD
DTSTART:20250725T155022Z
TZOFFSETFROM:+0000
TZOFFSETTO:+0000
END:STANDARD
END:VTIMEZONE
BEGIN:VEVENT
UID:697-596
DTSTAMP:20260421T155022Z
SUMMARY:Shuchu Reiki Gathering
LOCATION:
ORGANIZER;CN=Denise Carpenter:MAILTO:denise@lotuswings.ca
DTSTART;TZID=America/Toronto:20260514T200000
DTEND;TZID=America/Toronto:20260514T210000
X-ALT-DESC;FMTTYPE=TEXT/HTML:Join Our Shuchu Reiki Gathering!  What happen
 s when a group of Reiki Practitioners get together over Zoom to beam Reiki
  energy out into the world? We call it Shuchu! Shuchu is a beautiful form 
 of a Reiki Gathering where we pool our collective energy to offer distant 
 sendings to loved ones outside of our circle.&amp;hellip\;
CATEGORIES:General
URL;VALUE=URI:https://lotuswings.ca/mc-events/shuchu-reiki-gathering/
METHOD:PUBLISH
END:VEVENT
END:VCALENDAR