BEGIN:VCALENDAR
VERSION:2.0
PRODID:spatie/icalendar-generator
DESCRIPTION:Events from Lotus Wings
X-WR-CALDESC:Events from Lotus Wings
REFRESH-INTERVAL;VALUE=DURATION:PT1440M
X-PUBLISHED-TTL:PT1440M
BEGIN:VTIMEZONE
TZID:America/Toronto
BEGIN:STANDARD
DTSTART:20241103T020000Z
TZOFFSETFROM:-0400
TZOFFSETTO:-0500
END:STANDARD
BEGIN:DAYLIGHT
DTSTART:20250309T020000Z
TZOFFSETFROM:-0500
TZOFFSETTO:-0400
END:DAYLIGHT
BEGIN:STANDARD
DTSTART:20251102T020000Z
TZOFFSETFROM:-0400
TZOFFSETTO:-0500
END:STANDARD
END:VTIMEZONE
BEGIN:VTIMEZONE
TZID:UTC
BEGIN:STANDARD
DTSTART:20250724T032335Z
TZOFFSETFROM:+0000
TZOFFSETTO:+0000
END:STANDARD
END:VTIMEZONE
BEGIN:VEVENT
UID:633-541
DTSTAMP:20260420T032335Z
SUMMARY:Usui Reiki Level 2 Training with Moe Rosteius
LOCATION:
ORGANIZER;CN=Denise Carpenter:MAILTO:denise@lotuswings.ca
DTSTART;TZID=America/Toronto:20250712T090000
DTEND;TZID=America/Toronto:20250712T170000
X-ALT-DESC;FMTTYPE=TEXT/HTML:Are you ready to deepen your connection to Rei
 ki energy and expand your confidence as a practitioner? Join Moe for Usui
  Reiki Level 2 on Saturday\, July 12th from 9 AM to 5 PM. This full-da
 y training focuses on deepening your practice through the sacred Reiki sym
 bols\, distance healing\, emotional clearing\, and trusting your intuition
 . Whether you're working with others&amp;hellip\;
CATEGORIES:General
URL;VALUE=URI:https://lotuswings.ca/mc-events/usui-reiki-level-2-training-w
 ith-moe-rosteius/
METHOD:PUBLISH
END:VEVENT
END:VCALENDAR