BEGIN:VCALENDAR
VERSION:2.0
PRODID:spatie/icalendar-generator
DESCRIPTION:Events from Lotus Wings
X-WR-CALDESC:Events from Lotus Wings
REFRESH-INTERVAL;VALUE=DURATION:PT1440M
X-PUBLISHED-TTL:PT1440M
BEGIN:VTIMEZONE
TZID:America/Toronto
BEGIN:STANDARD
DTSTART:20181104T020000Z
TZOFFSETFROM:-0400
TZOFFSETTO:-0500
END:STANDARD
BEGIN:DAYLIGHT
DTSTART:20190310T020000Z
TZOFFSETFROM:-0500
TZOFFSETTO:-0400
END:DAYLIGHT
BEGIN:STANDARD
DTSTART:20191103T020000Z
TZOFFSETFROM:-0400
TZOFFSETTO:-0500
END:STANDARD
END:VTIMEZONE
BEGIN:VTIMEZONE
TZID:UTC
BEGIN:STANDARD
DTSTART:20250725T081052Z
TZOFFSETFROM:+0000
TZOFFSETTO:+0000
END:STANDARD
END:VTIMEZONE
BEGIN:VEVENT
UID:75-72
DTSTAMP:20260421T081052Z
SUMMARY:WORKSHOP PRESENTATION
LOCATION:Stewart Park   Perth ON
ORGANIZER;CN=Denise Carpenter:MAILTO:denise@lotuswings.ca
DTSTART;TZID=America/Toronto:20190720T143000
DTEND;TZID=America/Toronto:20190720T153000
X-ALT-DESC;FMTTYPE=TEXT/HTML:Are you curious about Reiki or are already acq
 uainted with this amazing energy technique? Join Denise Carpenter of Reiki
  Associates for a discussion and an experience of Usui Reiki while at the 
 Festival.  She will give a brief introduction\, answer any questions and 
 then offer a group session.  All levels of experience are welcome.
CATEGORIES:General
URL;VALUE=URI:https://lotuswings.ca/mc-events/workshop-presentation/
METHOD:PUBLISH
END:VEVENT
END:VCALENDAR